BEGIN:VCALENDAR
VERSION:2.0
METHOD:PUBLISH
BEGIN:VEVENT
DTSTART:20260317T170000
DTEND:20260317T170000
LOCATION:Stowarzyszenie KLANZA w Białymstoku Witosa 15B (II piętro)  Białystok
TRANSP: OPAQUE
SEQUENCE:0
UID:
DTSTAMP:20260419T161634Z
SUMMARY:Akademia Malucha | Maluchy obserwują ptaki
DESCRIPTION:🐦 Akademia Malucha: Maluchy obserwują ptaki 🌿Zapraszamy dzieci w wieku 3-5 lat wraz z opiekunem na bezpłatne zajęcia z cyklu Akademia Malucha!📅 Data: 17 marca ⏰ Godzina: 17:00 📍......
URL:https://app.evenea.pl/event/akademiamaluchawklanzie/
PRIORITY:1
CLASS:PUBLIC
END:VEVENT
END:VCALENDAR
