BEGIN:VCALENDAR
VERSION:2.0
METHOD:PUBLISH
BEGIN:VEVENT
DTSTART:20221027T180000
DTEND:20221027T210000
LOCATION:Hotel Apart Podpromie 12  Rzeszów
TRANSP: OPAQUE
SEQUENCE:0
UID:
DTSTAMP:20260420T210917Z
SUMMARY:Create Your Business - Warsztat "Biznes i jego tajniki - od czego zależy mój sukces"
DESCRIPTION:Cykl warsztatów biznesowych pod nazwą "Create Your Business" będzie to wydarzenie cykliczne realizowane przez Podkarpacką Radę Programową Kobiet w każdy ostatni czwartek miesiąca w......
URL:https://app.evenea.pl/event/akademiamentoringowa3kopia2/
PRIORITY:1
CLASS:PUBLIC
END:VEVENT
END:VCALENDAR
