BEGIN:VCALENDAR
VERSION:2.0
METHOD:PUBLISH
BEGIN:VEVENT
DTSTART:20260301T110000
DTEND:20260301T110000
LOCATION:Miasteczko OCR Piastowska 51 (plac zabaw)  42-202 Częstochowa
TRANSP: OPAQUE
SEQUENCE:0
UID:
DTSTAMP:20260420T062505Z
SUMMARY:Akcja Otwarcia 8 edycji Operacji Czysta Rzeka - Częstochowa
DESCRIPTION:Zapraszamy wszystkich chętnych do wzięcia udziału w Akcji Otwarcia 8. edycji Operacji Czysta Rzeka, która odbędzie się 1 marca 2026 r. w Częstochowie. Nasze miasteczko zlokalizowane będzie......
URL:https://app.evenea.pl/event/akcja-otwarcia/
PRIORITY:1
CLASS:PUBLIC
END:VEVENT
END:VCALENDAR
