BEGIN:VCALENDAR
VERSION:2.0
METHOD:PUBLISH
BEGIN:VEVENT
DTSTART:20221207T170000
DTEND:20221207T170000
LOCATION:   
TRANSP: OPAQUE
SEQUENCE:0
UID:
DTSTAMP:20260422T101549Z
SUMMARY:Przypowieść o złocie. ALMANACH LEGEND GDAŃSKICH  - spacery, warsztaty, słuchowiska
DESCRIPTION:Skąd nazwa Żabi Kruk? Jaką magie kryła chusta z trzema węzłami? Czego uczy do dziś Przypowieść o złocie? Odkryj krok po kroku legendy Gdańska podczas spacerów, warsztatów edukacyjnych......
URL:https://app.evenea.pl/event/algozlocie/
PRIORITY:1
CLASS:PUBLIC
END:VEVENT
END:VCALENDAR
