BEGIN:VCALENDAR
VERSION:2.0
METHOD:PUBLISH
BEGIN:VEVENT
DTSTART:20221130T170000
DTEND:20221130T170000
LOCATION:Gdańsk   
TRANSP: OPAQUE
SEQUENCE:0
UID:
DTSTAMP:20260422T102303Z
SUMMARY:Chusta z trzema węzłami. ALMANACH LEGEND GDAŃSKICH  - spacery, warsztaty, słuchowiska
DESCRIPTION:Skąd nazwa Żabi Kruk? Jaką magie kryła chusta z trzema węzłami? Czego uczy do dziś Przypowieść o złocie? Odkryj krok po kroku legendy Gdańska podczas spacerów, warsztatów edukacyjnych......
URL:https://app.evenea.pl/event/alhchusta/
PRIORITY:1
CLASS:PUBLIC
END:VEVENT
END:VCALENDAR
