BEGIN:VCALENDAR
VERSION:2.0
METHOD:PUBLISH
BEGIN:VEVENT
DTSTART:20230323T180000
DTEND:20230323T203000
LOCATION:Biuro Allegro - Lubicz Park A (5 piętro) ul. Lubicz 23  Kraków
TRANSP: OPAQUE
SEQUENCE:0
UID:
DTSTAMP:20260424T084741Z
SUMMARY:Allegro Tech Talks #35 - Development: o dokumentacji i wydajności kodu
DESCRIPTION:\n\n	Mamy dla Was dobrą wiadomość! Wracamy do stacjonarnych spotkań Allegro Tech Talks, na których dzielimy się wiedzą, wzajemnie inspirujemy oraz integrujemy podczas rozmów w......
URL:https://app.evenea.pl/event/allegro-tech-talk-35/
PRIORITY:1
CLASS:PUBLIC
END:VEVENT
END:VCALENDAR
