BEGIN:VCALENDAR
VERSION:2.0
METHOD:PUBLISH
BEGIN:VEVENT
DTSTART:20230518T180000
DTEND:20230518T203000
LOCATION:Biuro Allegro - Nowy Rynek Wierzbięcice 1B  Poznań
TRANSP: OPAQUE
SEQUENCE:0
UID:
DTSTAMP:20260422T235656Z
SUMMARY:Allegro Tech Talks #37 - Kotlin: Kotlin Native i niebezpieczeństwa współdzielonego stanu w korutynach
DESCRIPTION:Ciąg dalszy naszych stacjonarnych spotkań Allegro Tech Talks, na których dzielimy się wiedzą, wzajemnie inspirujemy oraz integrujemy podczas rozmów w kuluarach. Ten meetup odbędzie się w......
URL:https://app.evenea.pl/event/allegro-tech-talk-37/
PRIORITY:1
CLASS:PUBLIC
END:VEVENT
END:VCALENDAR
