BEGIN:VCALENDAR
VERSION:2.0
METHOD:PUBLISH
BEGIN:VEVENT
DTSTART:20230614T183000
DTEND:20230614T200000
LOCATION:Biuro Allegro - Fabryka Norblina Żelazna 51/53  Warszawa
TRANSP: OPAQUE
SEQUENCE:0
UID:
DTSTAMP:20260422T224002Z
SUMMARY:Allegro Tech Talks #38 - Mobile: o iOS bez spinki
DESCRIPTION:Ostatnie przed przerwą wakacyjną, stacjonarne spotkanie z cyklu Allegro Tech Talks, na których dzielimy się wiedzą, wzajemnie inspirujemy oraz integrujemy podczas rozmów w kuluarach przed......
URL:https://app.evenea.pl/event/allegro-tech-talk-38/
PRIORITY:1
CLASS:PUBLIC
END:VEVENT
END:VCALENDAR
