BEGIN:VCALENDAR
VERSION:2.0
METHOD:PUBLISH
BEGIN:VEVENT
DTSTART:20231130T180000
DTEND:20231130T200000
LOCATION:Biuro Allegro - Fabryka Norblina Żelazna 51/53  Warszawa
TRANSP: OPAQUE
SEQUENCE:0
UID:
DTSTAMP:20260422T215717Z
SUMMARY:Allegro Tech Talks #39 - Big Data: o podejściu do pracy z danymi
DESCRIPTION:Bądźcie z nami podczas #39 wydarzenia z serii Allegro Tech Talk, podczas których dzielimy się wiedzą, wzajemnie inspirujemy oraz integrujemy podczas rozmów przy dobrej kawie☕, napojach🥤......
URL:https://app.evenea.pl/event/allegro-tech-talk-39/
PRIORITY:1
CLASS:PUBLIC
END:VEVENT
END:VCALENDAR
