BEGIN:VCALENDAR
VERSION:2.0
METHOD:PUBLISH
BEGIN:VEVENT
DTSTART:20260114T180000
DTEND:20260114T180000
LOCATION:Biuro Allegro - Fabryka Norblina, budynek B (wejście Plater 3) Żelazna 51/53  Warszawa
TRANSP: OPAQUE
SEQUENCE:0
UID:
DTSTAMP:20260421T102955Z
SUMMARY:Allegro Tech Talks #45 - AI edition
DESCRIPTION:Zapraszamy Was na #45 wydarzenie z serii Allegro Tech Talk, podczas których dzielimy się wiedzą, wzajemnie inspirujemy oraz integrujemy przy dobrej kawie ☕, napojach🥤 i pizzy 🍕. Ten......
URL:https://app.evenea.pl/event/allegro-tech-talk-45/
PRIORITY:1
CLASS:PUBLIC
END:VEVENT
END:VCALENDAR
