BEGIN:VCALENDAR
VERSION:2.0
METHOD:PUBLISH
BEGIN:VEVENT
DTSTART:20260310T180000
DTEND:20260310T180000
LOCATION:Biuro Allegro - Nowy Rynek, budynek D (wejście od ul. Wujka) Wierzbięcice 1B  Poznań
TRANSP: OPAQUE
SEQUENCE:0
UID:
DTSTAMP:20260421T060327Z
SUMMARY:Allegro Tech Talks #46 - misja dojrzały UX (by UX Research Confetti)
DESCRIPTION:Zapraszamy Was na #46 wydarzenie z serii Allegro Tech Talk, podczas których dzielimy się wiedzą, wzajemnie inspirujemy oraz integrujemy przy dobrej kawie ☕, napojach🥤 i pizzy 🍕. Ten......
URL:https://app.evenea.pl/event/allegro-tech-talk-46/
PRIORITY:1
CLASS:PUBLIC
END:VEVENT
END:VCALENDAR
