BEGIN:VCALENDAR
VERSION:2.0
METHOD:PUBLISH
BEGIN:VEVENT
DTSTART:20250411T130000
DTEND:20250411T180000
LOCATION:Biuro Allegro - Nowy Rynek ul. Wierzbięcice 1B  Poznań
TRANSP: OPAQUE
SEQUENCE:0
UID:
DTSTAMP:20260421T142617Z
SUMMARY:DDD & EventStorming na luzie - unconference na 3 lata gildii EventStorming w Allegro
DESCRIPTION:Dobrze Was widzieć! Allegro Tech to miejsce, w którym dzielimy się wiedzą, dobrymi praktykami i case study z różnych projektów prowadzonych w naszej firmie. Oprócz artykułów, podcastów i......
URL:https://app.evenea.pl/event/allegro-tech-talk-ddd3/
PRIORITY:1
CLASS:PUBLIC
END:VEVENT
END:VCALENDAR
