BEGIN:VCALENDAR
VERSION:2.0
METHOD:PUBLISH
BEGIN:VEVENT
DTSTART:20260516T130000
DTEND:20260516T130000
LOCATION:ZODIAK Warszawski Pawilon Architektury Pasaż Stefana Wiecheckiego "Wiecha" 4  Warszawa
TRANSP: OPAQUE
SEQUENCE:0
UID:
DTSTAMP:20260422T162448Z
SUMMARY:Alternatywy, czyli jak można mieszkać inaczej? | Warsztaty dla dorosłych
DESCRIPTION:Zapraszamy na warsztaty dla dorosłych, podczas których przyjrzymy się różnym sposobom mieszkania i budowania.Spotkanie przewiduje opowieść o doświadczeniu budowania ekologicznych......
URL:https://app.evenea.pl/event/alternatywywarsztatydladoroslych/
PRIORITY:1
CLASS:PUBLIC
END:VEVENT
END:VCALENDAR
