BEGIN:VCALENDAR
VERSION:2.0
METHOD:PUBLISH
BEGIN:VEVENT
DTSTART:20260516T110000
DTEND:20260516T110000
LOCATION:ZODIAK Warszawski Pawilon Architektury Pasaż Stefana Wiecheckiego "Wiecha" 4  Warszawa
TRANSP: OPAQUE
SEQUENCE:0
UID:
DTSTAMP:20260422T160959Z
SUMMARY:Alternatywy, czyli jak można budować inaczej? | Warsztaty rodzinne
DESCRIPTION:Zapraszamy na warsztaty dla rodzin z dziećmi, podczas których zbudujemy alternatywne miejsce do życia!Jaki jest twój widok z okna? Jak nasze domy i mieszkania różnią się w zależności od......
URL:https://app.evenea.pl/event/alternatywywarsztatyrodzinne/
PRIORITY:1
CLASS:PUBLIC
END:VEVENT
END:VCALENDAR
