BEGIN:VCALENDAR
VERSION:2.0
METHOD:PUBLISH
BEGIN:VEVENT
DTSTART:20241115T180000
DTEND:20241115T180000
LOCATION:Odra Centrum,  (przy moście Grunwaldzkim) Wybrzeże J. Słowackiego 5b  Wrocław
TRANSP: OPAQUE
SEQUENCE:0
UID:
DTSTAMP:20260425T000119Z
SUMMARY:Spotkanie Absolwentów Politechniki Wrocławskiej 15 listopada 2024
DESCRIPTION:Z okazji Święta Politechniki Wrocławskiej zapraszamy Absolwentów na spotkanie w dniu upamiętniającym pierwszy polski wykład na naszej uczelni.Ten wyjątkowy dzień jest dla nas pretekstem,......
URL:https://app.evenea.pl/event/alumnipwr-spotkanie2024/
PRIORITY:1
CLASS:PUBLIC
END:VEVENT
END:VCALENDAR
