BEGIN:VCALENDAR
VERSION:2.0
METHOD:PUBLISH
BEGIN:VEVENT
DTSTART:20210114T110000
DTEND:20210114T120000
LOCATION:link do transmisji zostanie przesłany do uczestników w wiadomości potwierdzającej rejestrację   
TRANSP: OPAQUE
SEQUENCE:0
UID:
DTSTAMP:20260420T001610Z
SUMMARY:Webinar TLA - Analizy porównawcze - czas na nowe rozdanie
DESCRIPTION:Zapraszamy na spotkanie!Temat spotkania:Analizy porównawcze - czas na nowe rozdanieZagadnienia, które omówimy podczas webinarium: Analiza porównawcza - czym jest i do czego służy: mocne i......
URL:https://app.evenea.pl/event/analiza-porownawcza-nowe-rozdanie/
PRIORITY:1
CLASS:PUBLIC
END:VEVENT
END:VCALENDAR
