BEGIN:VCALENDAR
VERSION:2.0
METHOD:PUBLISH
BEGIN:VEVENT
DTSTART:20250118T130000
DTEND:20250118T130000
LOCATION:Książnica Pomorska, sala 9 Podgórna 15/16  Szczecin
TRANSP: OPAQUE
SEQUENCE:0
UID:
DTSTAMP:20260420T032820Z
SUMMARY:Quiz wiedzy o anime
DESCRIPTION:Jesteś fanem anime? Czas sprawdzić swoją wiedzę! Dołącz do naszego quizu i pokaż, jak dobrze znasz swoich ulubionych bohaterów i kultowe serie!Możesz wziąć udział w zabawie w pojedynkę......
URL:https://app.evenea.pl/event/animequiz/
PRIORITY:1
CLASS:PUBLIC
END:VEVENT
END:VCALENDAR
