BEGIN:VCALENDAR
VERSION:2.0
METHOD:PUBLISH
BEGIN:VEVENT
DTSTART:20251010T193000
DTEND:20251010T193000
LOCATION:Dobre Miejsce - Katolickie Centrum Kultury Dewajtis 3 (wej.B)  Warszawa
TRANSP: OPAQUE
SEQUENCE:0
UID:
DTSTAMP:20260421T200253Z
SUMMARY:Koncert anMari
DESCRIPTION:Zapraszamy na wyjątkowe wydarzenie muzyczne: koncert anMari - młodej kompozytorki i wokalistki nurtu chrześcijańsko-alternatywnego, która w ostatnich latach zdobyła dużą popularność. Jej......
URL:https://app.evenea.pl/event/anmari/
PRIORITY:1
CLASS:PUBLIC
END:VEVENT
END:VCALENDAR
