BEGIN:VCALENDAR
VERSION:2.0
METHOD:PUBLISH
BEGIN:VEVENT
DTSTART:20260608T120000
DTEND:20260608T143000
LOCATION:Akademia Nauk Stosowanych w Bielsku-Białej (Audytorium Maximum) Czesława Tańskiego 5  Bielsko-Biała
TRANSP: OPAQUE
SEQUENCE:0
UID:
DTSTAMP:20260424T154908Z
SUMMARY:Debata pn. "Tkając dobrostan. Od bogactwa narodów do dobrostanu społeczności".
DESCRIPTION:\n\n	Akademia Nauk Stosowanych w Bielsku-Białej oraz Beskidzka Izba Gospodarcza (Organizatorzy) mają przyjemność zaprosić Państwa na debatę ekspertów organizowaną w związku z......
URL:https://app.evenea.pl/event/ansbb911764-1/
PRIORITY:1
CLASS:PUBLIC
END:VEVENT
END:VCALENDAR
