BEGIN:VCALENDAR
VERSION:2.0
METHOD:PUBLISH
BEGIN:VEVENT
DTSTART:20220319T170000
DTEND:20220319T210000
LOCATION:FutureLabs PCSS Zwierzyniecka 20  Poznań
TRANSP: OPAQUE
SEQUENCE:0
UID:
DTSTAMP:20260421T062959Z
SUMMARY:Przyszłość nigdy się nie skończy
DESCRIPTION:Przebodźcowani, wymiętoszeni i wypluci. Powoli wypełzamy z korytarza na zewnątrz. Co się właśnie wydarzyło? Wirtualne śnienie, czy może epileptyczny atak? Oczy pod powiekami ciągle......
URL:https://app.evenea.pl/event/aopera/
PRIORITY:1
CLASS:PUBLIC
END:VEVENT
END:VCALENDAR
