BEGIN:VCALENDAR
VERSION:2.0
METHOD:PUBLISH
BEGIN:VEVENT
DTSTART:20250209T140000
DTEND:20250209T153000
LOCATION:Bankowiec |  Mini Muzeum 3 Maja 27/31  Gdynia
TRANSP: OPAQUE
SEQUENCE:0
UID:
DTSTAMP:20260421T174114Z
SUMMARY:Archi-Tour BANKOWIEC:  Sekrety i niuanse architektury, wnętrz i detali
DESCRIPTION:Archi-Tour BANKOWIEC: Sekrety architektury, wnętrz i detali.Prowadzenie: Maria Piradoff-Link (kustoszka Mini Muzeum BANKOWCA) oraz przewodnicy społeczniKoordynacja Gdyński Szlak Modernizmu......
URL:https://app.evenea.pl/event/archibankowiecdetal/
PRIORITY:1
CLASS:PUBLIC
END:VEVENT
END:VCALENDAR
