BEGIN:VCALENDAR
VERSION:2.0
METHOD:PUBLISH
BEGIN:VEVENT
DTSTART:20220826T141500
DTEND:20220826T141500
LOCATION:Gdyńskie Centrum Filmowe Plac Grunwaldzki 2  Gdynia
TRANSP: OPAQUE
SEQUENCE:0
UID:
DTSTAMP:20260422T165236Z
SUMMARY:12. Weekend Architektury | ARCHI Debata o odbudowie Miast - doświadczenia z Polski, Europy, Świata | 26 sierpnia
DESCRIPTION:ARCHI Debata o odbudowie Miast - doświadczenia z Polski, Europy, Świata 26 sierpnia 2022Debata: 14:15-15:00Miejsce: Gdyńskie Centrum Filmowe, Sala Goplana, pl. Grunwaldzki 2Wstęp wolny -......
URL:https://app.evenea.pl/event/archidebata26sierpnia/
PRIORITY:1
CLASS:PUBLIC
END:VEVENT
END:VCALENDAR
