BEGIN:VCALENDAR
VERSION:2.0
METHOD:PUBLISH
BEGIN:VEVENT
DTSTART:20230903T183000
DTEND:20230903T191000
LOCATION:Konsulat Kultury, Sala Teatralna Jana z Kolna 25  Gdynia
TRANSP: OPAQUE
SEQUENCE:0
UID:
DTSTAMP:20260421T050326Z
SUMMARY:Archi Film: Architektura przemysłu. Port w Gdyni | Weekend Architektury 2023
DESCRIPTION:Architektura przemysłu. Port w Gdyni - Rzeczpospolita ModernistycznaPoznaj historię budowy poszczególnych obiektów, zagadnienia techniczne i technologiczne związane z projektowaniem i......
URL:https://app.evenea.pl/event/archifilm3/
PRIORITY:1
CLASS:PUBLIC
END:VEVENT
END:VCALENDAR
