BEGIN:VCALENDAR
VERSION:2.0
METHOD:PUBLISH
BEGIN:VEVENT
DTSTART:20230903T120000
DTEND:20230903T173000
LOCATION:Konsulat Kultury - Sala Teatralna Jana z Kolna 25  Gdynia
TRANSP: OPAQUE
SEQUENCE:0
UID:
DTSTAMP:20260423T020839Z
SUMMARY:Archi Prelekcje cz. 3 "Odnowa - Renowacje" | Weekend Architektury 2023
DESCRIPTION:Blok 1 / 12:30-14:00 "Modernizacje - renowacje: najlepsze praktyki architektoniczne Polska - Europa" - renowacje - inspiracje:1\ Pod łukami hal targowych, czyli tam gdzie mieszkańcy miast......
URL:https://app.evenea.pl/event/archiodnowaarchirenowacje/
PRIORITY:1
CLASS:PUBLIC
END:VEVENT
END:VCALENDAR
