BEGIN:VCALENDAR
VERSION:2.0
METHOD:PUBLISH
BEGIN:VEVENT
DTSTART:20190911T183000
DTEND:20190911T183000
LOCATION:Kawiarnia DeSer Czajkowskiego 19  Krosno
TRANSP: OPAQUE
SEQUENCE:0
UID:
DTSTAMP:20260421T162417Z
SUMMARY:Aromatyczny wrzesień w Krośnie - aromaterapia dla urody
DESCRIPTION:Informacje na www.mamatuli.pl...
URL:https://app.evenea.pl/event/aromaterapiadlaurody/
PRIORITY:1
CLASS:PUBLIC
END:VEVENT
END:VCALENDAR
