BEGIN:VCALENDAR
VERSION:2.0
METHOD:PUBLISH
BEGIN:VEVENT
DTSTART:20240514T170000
DTEND:20240514T190000
LOCATION:Miejsce Otwarte. Centrum Integracji Międzykulturowej. Kraków os. Górali 24  Kraków
TRANSP: OPAQUE
SEQUENCE:0
UID:
DTSTAMP:20260423T061729Z
SUMMARY:Odkryj storytelling i malarstwo 7+ | Explore Storytelling and Painting 7+ | Досліджуємо сторітелінг та живопис 7+
DESCRIPTION:PL/ENG/UAHello Music and Sketch - Warsztaty artystyczne i regenerująceSerdecznie zapraszamy na wyjątkowy cykl warsztatów prowadzonych przez grupę artystów i muzyków z USA i Ukrainy, którzy......
URL:https://app.evenea.pl/event/artmusicworkshops1405/
PRIORITY:1
CLASS:PUBLIC
END:VEVENT
END:VCALENDAR
