BEGIN:VCALENDAR
VERSION:2.0
METHOD:PUBLISH
BEGIN:VEVENT
DTSTART:20240521T170000
DTEND:20240521T190000
LOCATION:Miejsce Otwarte. Centrum Integracji Międzykulturowej. Kraków os. Górali 24  Kraków
TRANSP: OPAQUE
SEQUENCE:0
UID:
DTSTAMP:20260423T061612Z
SUMMARY:Niezależna muzyka i fotografia 13+ | Autonomy Music and Photography 13+ | Незалежна музика та фотографія 13+
DESCRIPTION:PL/ENG/UAHello Music and Sketch - Warsztaty artystyczne i regenerująceSerdecznie zapraszamy na wyjątkowy cykl warsztatów prowadzonych przez grupę artystów i muzyków z USA i Ukrainy, którzy......
URL:https://app.evenea.pl/event/artmusicworkshops2105/
PRIORITY:1
CLASS:PUBLIC
END:VEVENT
END:VCALENDAR
