BEGIN:VCALENDAR
VERSION:2.0
METHOD:PUBLISH
BEGIN:VEVENT
DTSTART:20211007T200000
DTEND:20211007T200000
LOCATION:Kolonia Artystów Aleja Grunwaldzka 51  Gdańsk
TRANSP: OPAQUE
SEQUENCE:0
UID:
DTSTAMP:20260421T132340Z
SUMMARY:ASHAMED - Koncert
DESCRIPTION:W dniu 7.10.2021 o godzinę 20:00 zapraszamy na koncert Tomasza Gadeckiego (ASHAMED). "Nazywam się Tomek Gadecki, jestem saksofonistą grającym w wielu formacjach muzycznie związanych z......
URL:https://app.evenea.pl/event/ashamed/
PRIORITY:1
CLASS:PUBLIC
END:VEVENT
END:VCALENDAR
