BEGIN:VCALENDAR
VERSION:2.0
METHOD:PUBLISH
BEGIN:VEVENT
DTSTART:20200211T180000
DTEND:20200211T203000
LOCATION:Akademia Skutecznej Zmiany ul.Powstania Wielkopolskiego 75  Gdynia
TRANSP: OPAQUE
SEQUENCE:0
UID:
DTSTAMP:20260425T141036Z
SUMMARY:Przekonaj się, że to tylko przekonanie
DESCRIPTION:Czy zdajesz sobie sprawę jakie przekonania kierują Twoim życiem? Czy jesteś w stanie określić programy, które powodują, że Twoje życie przebiega w taki sposób? Czy zauważyłeś, że co......
URL:https://app.evenea.pl/event/asz6/
PRIORITY:1
CLASS:PUBLIC
END:VEVENT
END:VCALENDAR
