BEGIN:VCALENDAR
VERSION:2.0
METHOD:PUBLISH
BEGIN:VEVENT
DTSTART:20220304T093000
DTEND:20220327T180000
LOCATION:ON-LINE   
TRANSP: OPAQUE
SEQUENCE:0
UID:
DTSTAMP:20260419T200806Z
SUMMARY:Konstelacje schizofreniczne i Starożytny alfabet - narzędzia dekodowania biologicznego - Dr Gérard ATHIAS
DESCRIPTION:Starożytny Alfabet i relacje bioenergetyczne. Narzędzia dekodowania biologicznego - Advancedr Gérard Athias &amp; Isabelle Boos25 - 27 marcaZajęcia praktyczne stawiania Tarota Energetycznego,dr......
URL:https://app.evenea.pl/event/athiasdekodowanie/
PRIORITY:1
CLASS:PUBLIC
END:VEVENT
END:VCALENDAR
