BEGIN:VCALENDAR
VERSION:2.0
METHOD:PUBLISH
BEGIN:VEVENT
DTSTART:20220420T180000
DTEND:20220420T180000
LOCATION:Białostocka 22 Białostocka 22  Warszawa
TRANSP: OPAQUE
SEQUENCE:0
UID:
DTSTAMP:20260421T050139Z
SUMMARY:Aula Polska nr 175 - UKRAIŃSKIE STARTUPY
DESCRIPTION:Let's meet again on 20th of April!After our last two meetups, we know you're ready for more! :)This time, we're preparing a special edition. As Aula, we want to give Ukrainian Startups a space to......
URL:https://app.evenea.pl/event/aula175/
PRIORITY:1
CLASS:PUBLIC
END:VEVENT
END:VCALENDAR
