BEGIN:VCALENDAR
VERSION:2.0
METHOD:PUBLISH
BEGIN:VEVENT
DTSTART:20220929T180000
DTEND:20220929T180000
LOCATION:Google Campus Centrum Praskie Koneser ul, Plac Konesera 10  Warszawa
TRANSP: OPAQUE
SEQUENCE:0
UID:
DTSTAMP:20260423T143924Z
SUMMARY:Aula Polska nr 178 - REKRUTACJA W STARTUPIE
DESCRIPTION:Wracamy po przerwie wakacyjnej!Naładowaliśmy swoje baterie i wracamy do Ciebie z kolejnymi meetupami. Kolejni prelegenci, nowe osoby do poznania, więcej networkingu. Are you ready?Rozmawiamy o......
URL:https://app.evenea.pl/event/aula178/
PRIORITY:1
CLASS:PUBLIC
END:VEVENT
END:VCALENDAR
