BEGIN:VCALENDAR
VERSION:2.0
METHOD:PUBLISH
BEGIN:VEVENT
DTSTART:20240909T180000
DTEND:20240909T220000
LOCATION:Aula główna SGH al. Niepodległości 162  Warszawa
TRANSP: OPAQUE
SEQUENCE:0
UID:
DTSTAMP:20260420T090551Z
SUMMARY:Aula Polska #191 — Fuzje i przejęcia
DESCRIPTION:Aula Polska wraca po wakacyjnej przerwie!Na wrzesień przygotowaliśmy dla Was coś specjalnego bowiem, po pierwsze będzie to nasze największe wydarzenie od czasu reaktywacji, a po drugie Aula,......
URL:https://app.evenea.pl/event/aula191/
PRIORITY:1
CLASS:PUBLIC
END:VEVENT
END:VCALENDAR
