BEGIN:VCALENDAR
VERSION:2.0
METHOD:PUBLISH
BEGIN:VEVENT
DTSTART:20250617T180000
DTEND:20250617T235500
LOCATION:River Club / River Cafe Nabrzeże vis a vis Parku Fontann  Warszawa
TRANSP: OPAQUE
SEQUENCE:0
UID:
DTSTAMP:20260423T165650Z
SUMMARY:Aula Polska #197 - Aula Wakacje (18 urodziny)
DESCRIPTION:W czerwcu widzimy się nad WisłąIdea świętowania urodzin Auli na początku wakacji bardzo się Wam spodobała, więc postanowiliśmy ją kontynuować. W tym roku Aula obchodzi swoje 18 urodziny......
URL:https://app.evenea.pl/event/aula197/
PRIORITY:1
CLASS:PUBLIC
END:VEVENT
END:VCALENDAR
