BEGIN:VCALENDAR
VERSION:2.0
METHOD:PUBLISH
BEGIN:VEVENT
DTSTART:20251120T180000
DTEND:20251120T235900
LOCATION:Warszawskie biuro Just Join IT UL. Marszałkowska 107  Warszawa
TRANSP: OPAQUE
SEQUENCE:0
UID:
DTSTAMP:20260423T203432Z
SUMMARY:Aula Polska #199 — Lekcje z wojny o firmę
DESCRIPTION:Na startupowych eventach z reguły opowiada się o sukcesach i tym, co poszło dobrze. Ale budowa firmy to nie są rurki z kremem - czasami trzeba walczyć o swoje.O powodach i kulisach takich......
URL:https://app.evenea.pl/event/aula199/
PRIORITY:1
CLASS:PUBLIC
END:VEVENT
END:VCALENDAR
