BEGIN:VCALENDAR
VERSION:2.0
METHOD:PUBLISH
BEGIN:VEVENT
DTSTART:20251217T180000
DTEND:20251217T230000
LOCATION:Warszawskie biuro Just Join IT UL. Marszałkowska 107  Warszawa
TRANSP: OPAQUE
SEQUENCE:0
UID:
DTSTAMP:20260423T174044Z
SUMMARY:Aula Polska #200 — Aulery All-Stars
DESCRIPTION:Tegoroczne Aulery to Aulery All-Stars - turniej wszystkich firm nagrodzonych Aulerem, w którym community wspólnie z jury wybiera najlepszy startup wszech czasów.Po miesiącach internetowej......
URL:https://app.evenea.pl/event/aula200/
PRIORITY:1
CLASS:PUBLIC
END:VEVENT
END:VCALENDAR
