BEGIN:VCALENDAR
VERSION:2.0
METHOD:PUBLISH
BEGIN:VEVENT
DTSTART:20260506T180000
DTEND:20260506T235900
LOCATION:Warszawskie biuro Just Join IT ul. Marszałkowska 107  Warszawa
TRANSP: OPAQUE
SEQUENCE:0
UID:
DTSTAMP:20260424T133458Z
SUMMARY:Aula Polska #203 - Vibecoding
DESCRIPTION:Vibecoding jeszcze niedawno brzmiał niepoważnie, a dziś stanowi o przewadze konkurencyjnej. I właśnie o nim, będziemy rozmawiać na majowej Auli.Agenda:18:00 - Piotr Nowosielski - Przywitanie......
URL:https://app.evenea.pl/event/aula203/
PRIORITY:1
CLASS:PUBLIC
END:VEVENT
END:VCALENDAR
