BEGIN:VCALENDAR
VERSION:2.0
METHOD:PUBLISH
BEGIN:VEVENT
DTSTART:20231018T180000
DTEND:20231018T223000
LOCATION:Kino Nowe Horyzonty ul. Kazimierza Wielkiego 19a  Wrocław
TRANSP: OPAQUE
SEQUENCE:0
UID:
DTSTAMP:20260425T213913Z
SUMMARY:Aula Polska Wrocław - Exit w startupie
DESCRIPTION:W październiku widzimy się we Wrocławiu!To nasz pierwszy meetup po reaktywacji, który robimy poza Warszawą. Współpracujemy nad nim z Casbegiem, który jako nasz partner zaprosił nas do......
URL:https://app.evenea.pl/event/aulawroclaw/
PRIORITY:1
CLASS:PUBLIC
END:VEVENT
END:VCALENDAR
