BEGIN:VCALENDAR
VERSION:2.0
METHOD:PUBLISH
BEGIN:VEVENT
DTSTART:20231213T180000
DTEND:20231213T235900
LOCATION:Google Campus Centrum Praskie Koneser ul, Plac Konesera 10  Warszawa
TRANSP: OPAQUE
SEQUENCE:0
UID:
DTSTAMP:20260420T154629Z
SUMMARY:Aulery 2023 — GALA FINAŁOWA
DESCRIPTION:KUP KOSZULKĘ — WESPRZYJ AULĘ!W czerwcu 2023 na evencie nad Wisłą sporym zainteresowaniem cieszyły się koszulki Auli Polskiej. W związku z tym postanowiliśmy powtórzyć akcję, by i przy......
URL:https://app.evenea.pl/event/aulery2023/
PRIORITY:1
CLASS:PUBLIC
END:VEVENT
END:VCALENDAR
