BEGIN:VCALENDAR
VERSION:2.0
METHOD:PUBLISH
BEGIN:VEVENT
DTSTART:20220509T170000
DTEND:20220509T170000
LOCATION:   
TRANSP: OPAQUE
SEQUENCE:0
UID:
DTSTAMP:20260420T202909Z
SUMMARY:AUTONARRACJA | warsztaty pisarskie dla młodzieży
DESCRIPTION:Opowiedz razem z nami kim jesteś!W ramach cyklu zajęć otrzymasz przestrzeń do pracy nad swoim własnym tekstem - opowiadaniem, dramatem lub wierszem, co wolisz. Wspólnie w grupie będziemy je......
URL:https://app.evenea.pl/event/autonarracja/
PRIORITY:1
CLASS:PUBLIC
END:VEVENT
END:VCALENDAR
