BEGIN:VCALENDAR
VERSION:2.0
METHOD:PUBLISH
BEGIN:VEVENT
DTSTART:20250227T130000
DTEND:20250227T160000
LOCATION:Centrum Rozwoju Talentów Grunwaldzka 472d  Gdańsk
TRANSP: OPAQUE
SEQUENCE:0
UID:
DTSTAMP:20260425T210849Z
SUMMARY:Warsztaty: Autoprezentacja podczas rozmowy kwalifikacyjnej - z wykorzystaniem technik teatru improwizacji
DESCRIPTION:To warsztaty, podczas których dowiesz się, jak zbudować autentyczną i otwartą postawę podczas rozmowy kwalifikacyjnej .Ponadto poznasz proste techniki aktorskie, które sprawią, że Twoja......
URL:https://app.evenea.pl/event/autoprezentacja-luty25/
PRIORITY:1
CLASS:PUBLIC
END:VEVENT
END:VCALENDAR
