BEGIN:VCALENDAR
VERSION:2.0
METHOD:PUBLISH
BEGIN:VEVENT
DTSTART:20191215T110000
DTEND:20191215T110000
LOCATION:Kolonia Artystów Grunwaldzka 51  Gdańsk
TRANSP: OPAQUE
SEQUENCE:0
UID:
DTSTAMP:20260419T135924Z
SUMMARY:AVX Audio Video Experyment - Mateusz Telega, "Myśl modularnie. Warsztaty syntezy dźwięku."
DESCRIPTION:Wykład i warsztaty będą poświęcone syntezie subtraktywnej realizowanej w domenie modularnej. Prowadzący zaprezentuje jej działanie na modułach opartych na standardzie Eurorack oraz jego......
URL:https://app.evenea.pl/event/avx-modularnie/
PRIORITY:1
CLASS:PUBLIC
END:VEVENT
END:VCALENDAR
