BEGIN:VCALENDAR
VERSION:2.0
METHOD:PUBLISH
BEGIN:VEVENT
DTSTART:20250327T092000
DTEND:20250327T170000
LOCATION:Online Online  Online
TRANSP: OPAQUE
SEQUENCE:0
UID:
DTSTAMP:20260421T132855Z
SUMMARY:Azure Summit 2025 (online)
DESCRIPTION:Azure Summit 2025 (online) to V. edycja największej polskiej konferencji poświęconej chmurze obliczeniowej Microsoft Azure. W tym roku konferencja odbywa się w dniu 27.03.2025 roku w formie......
URL:https://app.evenea.pl/event/azuresummit2025/
PRIORITY:1
CLASS:PUBLIC
END:VEVENT
END:VCALENDAR
