BEGIN:VCALENDAR
VERSION:2.0
METHOD:PUBLISH
BEGIN:VEVENT
DTSTART:20260319T092000
DTEND:20260319T170000
LOCATION:Online Online  Online
TRANSP: OPAQUE
SEQUENCE:0
UID:
DTSTAMP:20260421T142535Z
SUMMARY:Azure Summit 2026 (online)
DESCRIPTION:Azure Summit 2026 (online) to VI. edycja największej polskiej konferencji poświęconej chmurze obliczeniowej Microsoft Azure. W tym roku konferencja odbywa się w dniu 19.03.2026 roku w formie......
URL:https://app.evenea.pl/event/azuresummit2026/
PRIORITY:1
CLASS:PUBLIC
END:VEVENT
END:VCALENDAR
