BEGIN:VCALENDAR
VERSION:2.0
METHOD:PUBLISH
BEGIN:VEVENT
DTSTART:20191211T180000
DTEND:20191211T180000
LOCATION:THE MIST CLUB Okopowa 5  Lublin
TRANSP: OPAQUE
SEQUENCE:0
UID:
DTSTAMP:20260421T051208Z
SUMMARY:Azuronet - Lublin .NET & Azure Meetup #2
DESCRIPTION:KIEDY? 11 grudnia 2019 roku, godz. 18:00GDZIE? THE MIST CLUB, ul. Okopowa 5, LublinZapraszamy na wydarzenie Azuronet - Lublin .NET &amp; Azure Meetup #2, które odbędzie się już 11 grudnia 2019......
URL:https://app.evenea.pl/event/azuronet-lublin2/
PRIORITY:1
CLASS:PUBLIC
END:VEVENT
END:VCALENDAR
