BEGIN:VCALENDAR
VERSION:2.0
METHOD:PUBLISH
BEGIN:VEVENT
DTSTART:20210525T183000
DTEND:20210525T183000
LOCATION:Online Online  Online
TRANSP: OPAQUE
SEQUENCE:0
UID:
DTSTAMP:20260423T141702Z
SUMMARY:Azuronet - Online Azure Meetup #24:  Passwordless w Azure AD
DESCRIPTION:⏱ Data: 25 maja 2021 roku, godz. 18:30🔵 Miejsce: Internet (każda osoba, która zarejestruj się na wydarzenie otrzyma link do transmisji o godzinie 15:00 w dniu 25.05.2021).Zapraszamy na......
URL:https://app.evenea.pl/event/azuronet24/
PRIORITY:1
CLASS:PUBLIC
END:VEVENT
END:VCALENDAR
