BEGIN:VCALENDAR
VERSION:2.0
METHOD:PUBLISH
BEGIN:VEVENT
DTSTART:20210210T183000
DTEND:20210210T183000
LOCATION:Online Online  Online
TRANSP: OPAQUE
SEQUENCE:0
UID:
DTSTAMP:20260420T060409Z
SUMMARY:Azuronet - Online Azure Meetup #18
DESCRIPTION: Data: 10 luty 2021 roku, godz. 18:30🔵 Miejsce: Internet (każda osoba, która zarejestruj się na wydarzenie otrzyma link do transmisji o godzinie 15:00 w dniu 10 lutego 2021).Zapraszamy na......
URL:https://app.evenea.pl/event/azuronetonline18/
PRIORITY:1
CLASS:PUBLIC
END:VEVENT
END:VCALENDAR
