BEGIN:VCALENDAR
VERSION:2.0
METHOD:PUBLISH
BEGIN:VEVENT
DTSTART:20211216T170000
DTEND:20211216T170000
LOCATION:ProMedia aleja Wojska Polskiego 2  Szczecin
TRANSP: OPAQUE
SEQUENCE:0
UID:
DTSTAMP:20260423T000736Z
SUMMARY:Jaka jesteś Babo Jago? Spotkanie z Katarzyną Górewicz
DESCRIPTION:16 grudnia (czwartek) o godz. 17.00 w ProMediach odbędzie się spotkanie i warsztaty dla dzieci wokół książki "Jaka jesteś Babo Jago?" Katarzyny Górewicz. Zapisu na spotkanie można dokonać......
URL:https://app.evenea.pl/event/baba-jaga/
PRIORITY:1
CLASS:PUBLIC
END:VEVENT
END:VCALENDAR
