BEGIN:VCALENDAR
VERSION:2.0
METHOD:PUBLISH
BEGIN:VEVENT
DTSTART:20230908T190000
DTEND:20230908T190000
LOCATION:Scena Regionalnego Centrum Kultur Pogranicza Kolejowa 1  Krosno
TRANSP: OPAQUE
SEQUENCE:0
UID:
DTSTAMP:20260420T140929Z
SUMMARY:Babel, TEATR FORMY, WROCŁAW (Nocne Teatralia Strachy)
DESCRIPTION:19:00Babel - Wrocławski Teatr Formy - Physical Form Theatre, Wrocław /spektakl/miejsce: Scena Regionalnego Centrum Kultur Pogranicza, ul. Kolejowa 1Reżyseria, Scenografia, Opracowanie muzyczne:......
URL:https://app.evenea.pl/event/babel/
PRIORITY:1
CLASS:PUBLIC
END:VEVENT
END:VCALENDAR
