BEGIN:VCALENDAR
VERSION:2.0
METHOD:PUBLISH
BEGIN:VEVENT
DTSTART:20210917T170000
DTEND:20210917T193000
LOCATION:Miejski Teatr Miniatura aleja Grunwaldzka 16  Gdańsk
TRANSP: OPAQUE
SEQUENCE:0
UID:
DTSTAMP:20260422T061854Z
SUMMARY:Baby Dyke. Spektakl w formule Teatru Forum
DESCRIPTION:Stowarzyszenie Artystyczno-Społeczne FEERIA i Stowarzyszenie na rzecz osób LGBT+ TOLERADOzapraszają na spektakl pt.BABY DYKEZrealizowany w ramach projektu "Słowo na L. Teatr Forum o sytuacji......
URL:https://app.evenea.pl/event/babydyke/
PRIORITY:1
CLASS:PUBLIC
END:VEVENT
END:VCALENDAR
